BEGIN:VCALENDAR
VERSION:2.0
PRODID:-//Töpferei-Seminarhaus-Engelscheuer - ECPv6.8.3//NONSGML v1.0//EN
CALSCALE:GREGORIAN
METHOD:PUBLISH
X-WR-CALNAME:Töpferei-Seminarhaus-Engelscheuer
X-ORIGINAL-URL:https://abraxas-mauenheim.de
X-WR-CALDESC:Veranstaltungen für Töpferei-Seminarhaus-Engelscheuer
REFRESH-INTERVAL;VALUE=DURATION:PT1H
X-Robots-Tag:noindex
X-PUBLISHED-TTL:PT1H
BEGIN:VTIMEZONE
TZID:Europe/Berlin
BEGIN:DAYLIGHT
TZOFFSETFROM:+0100
TZOFFSETTO:+0200
TZNAME:CEST
DTSTART:20250330T010000
END:DAYLIGHT
BEGIN:STANDARD
TZOFFSETFROM:+0200
TZOFFSETTO:+0100
TZNAME:CET
DTSTART:20251026T010000
END:STANDARD
END:VTIMEZONE
BEGIN:VEVENT
DTSTART;TZID=Europe/Berlin:20250529T080000
DTEND;TZID=Europe/Berlin:20250601T170000
DTSTAMP:20260420T202525
CREATED:20230922T122303Z
LAST-MODIFIED:20230922T122303Z
UID:2826-1748505600-1748797200@abraxas-mauenheim.de
SUMMARY:geschlossene Gruppe
DESCRIPTION:
URL:https://abraxas-mauenheim.de/events/geschlossene-gruppe-2/
LOCATION:Engelscheuer Mauenheim\, Mauenheimerstr. 27\, Immendingen -Mauenheim\, 78194
END:VEVENT
BEGIN:VEVENT
DTSTART;TZID=Europe/Berlin:20250601T193000
DTEND;TZID=Europe/Berlin:20250601T213000
DTSTAMP:20260420T202525
CREATED:20240301T094034Z
LAST-MODIFIED:20250122T093014Z
UID:2992-1748806200-1748813400@abraxas-mauenheim.de
SUMMARY:Freie bewegte Wave 19.30h - 21.30h
DESCRIPTION:
URL:https://abraxas-mauenheim.de/events/freie-bewegte-wave-19-30h-21-30h-2-2-2-2/
LOCATION:Engelscheuer Mauenheim\, Mauenheimerstr. 27\, Immendingen -Mauenheim\, 78194
ORGANIZER;CN="Renate Wehden":MAILTO:rewedance@web.de
END:VEVENT
BEGIN:VEVENT
DTSTART;TZID=Europe/Berlin:20250621T110000
DTEND;TZID=Europe/Berlin:20250621T170000
DTSTAMP:20260420T202525
CREATED:20240811T095219Z
LAST-MODIFIED:20240811T095954Z
UID:2933-1750503600-1750525200@abraxas-mauenheim.de
SUMMARY:Sommersonnwende
DESCRIPTION:
URL:https://abraxas-mauenheim.de/events/lichtfest-3-2/
LOCATION:Engelscheuer Mauenheim\, Mauenheimerstr. 27\, Immendingen -Mauenheim\, 78194
ORGANIZER;CN="Anna Benkowitsch und Marina Steiner":MAILTO:info@lapismunda.de annabenko@online.de
END:VEVENT
BEGIN:VEVENT
DTSTART;VALUE=DATE:20250624
DTEND;VALUE=DATE:20250630
DTSTAMP:20260420T202525
CREATED:20241218T154531Z
LAST-MODIFIED:20241218T154848Z
UID:2977-1750723200-1751241599@abraxas-mauenheim.de
SUMMARY:Liberating Life Training 2025 Modul 1/3
DESCRIPTION:
URL:https://abraxas-mauenheim.de/events/liberating-life-training-2024-modul-4-2/
LOCATION:Engelscheuer Mauenheim\, Mauenheimerstr. 27\, Immendingen -Mauenheim\, 78194
ORGANIZER;CN="Stefan H%C3%A4fner":MAILTO:info@stefanhaefner.com
END:VEVENT
END:VCALENDAR