BEGIN:VCALENDAR
VERSION:2.0
PRODID:-//Töpferei-Seminarhaus-Engelscheuer - ECPv6.8.3//NONSGML v1.0//EN
CALSCALE:GREGORIAN
METHOD:PUBLISH
X-WR-CALNAME:Töpferei-Seminarhaus-Engelscheuer
X-ORIGINAL-URL:https://abraxas-mauenheim.de
X-WR-CALDESC:Veranstaltungen für Töpferei-Seminarhaus-Engelscheuer
REFRESH-INTERVAL;VALUE=DURATION:PT1H
X-Robots-Tag:noindex
X-PUBLISHED-TTL:PT1H
BEGIN:VTIMEZONE
TZID:Europe/Berlin
BEGIN:DAYLIGHT
TZOFFSETFROM:+0100
TZOFFSETTO:+0200
TZNAME:CEST
DTSTART:20250330T010000
END:DAYLIGHT
BEGIN:STANDARD
TZOFFSETFROM:+0200
TZOFFSETTO:+0100
TZNAME:CET
DTSTART:20251026T010000
END:STANDARD
END:VTIMEZONE
BEGIN:VEVENT
DTSTART;VALUE=DATE:20250708
DTEND;VALUE=DATE:20250714
DTSTAMP:20260421T000029
CREATED:20241021T090425Z
LAST-MODIFIED:20241021T090425Z
UID:2943-1751932800-1752451199@abraxas-mauenheim.de
SUMMARY:Thai Yoga Ausbildung
DESCRIPTION:
URL:https://abraxas-mauenheim.de/events/thai-yoga-ausbildung-2/
LOCATION:Engelscheuer Mauenheim\, Mauenheimerstr. 27\, Immendingen -Mauenheim\, 78194
END:VEVENT
END:VCALENDAR