BEGIN:VCALENDAR
VERSION:2.0
PRODID:-//Töpferei-Seminarhaus-Engelscheuer - ECPv6.8.3//NONSGML v1.0//EN
CALSCALE:GREGORIAN
METHOD:PUBLISH
X-WR-CALNAME:Töpferei-Seminarhaus-Engelscheuer
X-ORIGINAL-URL:https://abraxas-mauenheim.de
X-WR-CALDESC:Veranstaltungen für Töpferei-Seminarhaus-Engelscheuer
REFRESH-INTERVAL;VALUE=DURATION:PT1H
X-Robots-Tag:noindex
X-PUBLISHED-TTL:PT1H
BEGIN:VTIMEZONE
TZID:Europe/Berlin
BEGIN:DAYLIGHT
TZOFFSETFROM:+0100
TZOFFSETTO:+0200
TZNAME:CEST
DTSTART:20240331T010000
END:DAYLIGHT
BEGIN:STANDARD
TZOFFSETFROM:+0200
TZOFFSETTO:+0100
TZNAME:CET
DTSTART:20241027T010000
END:STANDARD
END:VTIMEZONE
BEGIN:VEVENT
DTSTART;VALUE=DATE:20240113
DTEND;VALUE=DATE:20240115
DTSTAMP:20260419T194429
CREATED:20240108T105211Z
LAST-MODIFIED:20240108T105211Z
UID:2890-1705104000-1705276799@abraxas-mauenheim.de
SUMMARY:Reiki mit Bettina Fechner
DESCRIPTION:
URL:https://abraxas-mauenheim.de/events/reiki-mit-bettina-fechner/
LOCATION:Abraxas Mauenheim\, Mauenheimer Str. 25\, Immendingen-Mauenheim\, 78194
ORGANIZER;CN="Bettina Fechner":MAILTO:info@bettinafechner.de
END:VEVENT
END:VCALENDAR